BEGIN:VCALENDAR
VERSION:2.0
PRODID:-//Ken Allen | Viola - ECPv6.15.20//NONSGML v1.0//EN
CALSCALE:GREGORIAN
METHOD:PUBLISH
X-ORIGINAL-URL:https://allenviola.com
X-WR-CALDESC:Events for Ken Allen | Viola
REFRESH-INTERVAL;VALUE=DURATION:PT1H
X-Robots-Tag:noindex
X-PUBLISHED-TTL:PT1H
BEGIN:VTIMEZONE
TZID:UTC
BEGIN:STANDARD
TZOFFSETFROM:+0000
TZOFFSETTO:+0000
TZNAME:UTC
DTSTART:20250101T000000
END:STANDARD
END:VTIMEZONE
BEGIN:VEVENT
DTSTART;VALUE=DATE:20260510
DTEND;VALUE=DATE:20260511
DTSTAMP:20260425T004203
CREATED:20260331T155212Z
LAST-MODIFIED:20260331T155212Z
UID:10000107-1778371200-1778457599@allenviola.com
SUMMARY:Brandenburg and Beyond
DESCRIPTION:MOZART: Flute Quartet in D Major\, K. 285 \nBEEFTINK: Squirrels and Stowaway \nBEACH: Theme and Variations for Flute and String Quartet\, Op. 80
URL:https://allenviola.com/event/brandenburg-and-beyond-051026/
LOCATION:St. Peter’s Episcopal Church\, 3 Peabody Row\, Londonderry\, NH
END:VEVENT
END:VCALENDAR