BEGIN:VCALENDAR
VERSION:2.0
PRODID:-//Ken Allen | Viola - ECPv6.15.20//NONSGML v1.0//EN
CALSCALE:GREGORIAN
METHOD:PUBLISH
X-ORIGINAL-URL:https://allenviola.com
X-WR-CALDESC:Events for Ken Allen | Viola
REFRESH-INTERVAL;VALUE=DURATION:PT1H
X-Robots-Tag:noindex
X-PUBLISHED-TTL:PT1H
BEGIN:VTIMEZONE
TZID:UTC
BEGIN:STANDARD
TZOFFSETFROM:+0000
TZOFFSETTO:+0000
TZNAME:UTC
DTSTART:20250101T000000
END:STANDARD
END:VTIMEZONE
BEGIN:VEVENT
DTSTART;VALUE=DATE:20260425
DTEND;VALUE=DATE:20260426
DTSTAMP:20260425T003821
CREATED:20260420T030613Z
LAST-MODIFIED:20260420T030613Z
UID:10000109-1777075200-1777161599@allenviola.com
SUMMARY:New England Philharmonic
DESCRIPTION:Tianhui Ng\, conductor \nCARRILLO: Cantares \nPENDERECKI: Credo\nwith Chorus pro Musica and Children’s Chorus Voices Boston\nfeaturing soprano Carami Hilaire\, mezzo soprano Mary Kray\, alto Lucia Bradford\, tenor Spencer Hamlin\, and bass David McFerrin
URL:https://allenviola.com/event/new-england-philharmonic-042526/
LOCATION:First Church in Cambridge\, 11 Garden Street\, Cambridge\, MA\, United States
END:VEVENT
END:VCALENDAR